BEGIN:VCALENDAR
VERSION:2.0
PRODID:-//ChamberMaster//Event Calendar 2.0//EN
METHOD:PUBLISH
X-PUBLISHED-TTL:P3D
REFRESH-INTERVAL:P3D
CALSCALE:GREGORIAN
BEGIN:VEVENT
DTSTART:20260127T233000Z
DTEND:20260128T013000Z
X-MICROSOFT-CDO-ALLDAYEVENT:FALSE
SUMMARY:January Professional Interchange @ UMMO Chicago
DESCRIPTION:Start the year off right by building your network\, so join us for our next Professional Interchange event at UMMO Chicago in River North!\n\n \n\nUMMO is known for its stylish atmosphere\, warm hospitality\, and elevated dining experience\, making it the perfect backdrop for meaningful conversations and new business connections.\n\n \n\nEnjoy an evening of collaboration with fellow professionals while sampling a selection of appetizers along with beer\, red and white wine and a specialty cocktail!\n\n \n\nExpand your network\, and experience one of River North's standout dining destinations in an amazing event space dedicated just for us!\n\n\n\nMembers: We kindly ask that if you're unable to attend\, please notify us at least 24 hours in advance. A $25 no-show fee will apply without notice.\n\n\n\nOPEN TO THE PUBLIC | NO REFUNDS\n\n \n\nOur Professional Interchange events have evolved into vibrant gatherings where business professionals come together not to sell\, but to inspire\, share ideas\, and build authentic relationships. We cultivate a culture which fosters meaningful connections where business happens organically.\n\n \n\nThis event is open to the public not for transactional purposes\, but to offer guests the opportunity to experience the culture of our organization and learn more about the Greater River North Business Association and the many benefits it provides to the business community.\n\n \n\nIMPORTANT. PLEASE NOTE: Proper attire is required. GRNBA enforces business attire or a smart casual dress code. This standard applies to all of our Professional Interchange events to ensure we reflect the professionalism of our members and the venues that graciously host us.\n\n \n\n\n	For men: A collared shirt and dress pants are recommended. A collared shirt\, chinos\, dress jeans or a button-down shirt are appropriate. Please avoid sleeveless shirts\, ripped jeans\, hats\, beanies or ball caps\, beachwear\, jerseys and gym or athletic apparel\n\n\n \n\n\n	For women: Business wear or dressy casual attire is most comfortable. A nice blouse with a dressy skirt or pants\, dress jeans\, or a dress would be suitable. Please avoid excessively revealing clothing\, tank tops\, ripped jeans\, beachwear\, gym attire or athletic apparel\n\n\n \n\n\n	General advice: opt for smart casual or business attire to be safe. It is better to be slightly overdressed than underdressed. \n\n\n \n\nAdmittance to our professional interchange events is at the discretion of the GRNBA staff\, who reserves the right to refuse admittance to guests or members who are inappropriately dressed regardless of registration
X-ALT-DESC;FMTTYPE=text/html:<p style="margin: 0px\; padding: 0px\; color: rgb(96\, 109\, 120)\; font-family: Helvetica\, Arial\, sans-serif\; font-size: 16px\; white-space-collapse: preserve\;"><span style="color: rgb(0\, 0\, 0)\;">Start the year off right by building your network\, so join us for our next Professional Interchange event at UMMO Chicago in River North!</span></p>\n\n<p style="margin: 0px\; padding: 0px\; color: rgb(96\, 109\, 120)\; font-family: Helvetica\, Arial\, sans-serif\; font-size: 16px\; white-space-collapse: preserve\;">&nbsp\;</p>\n\n<p style="margin: 0px\; padding: 0px\; color: rgb(96\, 109\, 120)\; font-family: Helvetica\, Arial\, sans-serif\; font-size: 16px\; white-space-collapse: preserve\;"><span style="color: rgb(0\, 0\, 0)\;">UMMO is known for its stylish atmosphere\, warm hospitality\, and elevated dining experience\, making it the perfect backdrop for meaningful conversations and new business connections.</span></p>\n\n<p style="margin: 0px\; padding: 0px\; color: rgb(96\, 109\, 120)\; font-family: Helvetica\, Arial\, sans-serif\; font-size: 16px\; white-space-collapse: preserve\;">&nbsp\;</p>\n\n<p style="margin: 0px\; padding: 0px\; color: rgb(96\, 109\, 120)\; font-family: Helvetica\, Arial\, sans-serif\; font-size: 16px\; white-space-collapse: preserve\;"><span style="color: rgb(0\, 0\, 0)\;">Enjoy an evening of collaboration with fellow professionals while sampling a selection of appetizers along with beer\, red and white wine and a specialty cocktail!</span></p>\n\n<p style="margin: 0px\; padding: 0px\; color: rgb(96\, 109\, 120)\; font-family: Helvetica\, Arial\, sans-serif\; font-size: 16px\; white-space-collapse: preserve\;">&nbsp\;</p>\n\n<p style="margin: 0px\; padding: 0px\; color: rgb(96\, 109\, 120)\; font-family: Helvetica\, Arial\, sans-serif\; font-size: 16px\; white-space-collapse: preserve\;"><span style="color: rgb(0\, 0\, 0)\;">Expand your network\, and experience one of River North&rsquo\;s standout dining destinations in an amazing event space dedicated just for us!</span><br />\n<br />\n<span style="color:#FF0000\;"><strong><span style="font-size:20px\;">Members:</span> </strong>We kindly ask that if you&rsquo\;re unable to attend\, please notify us at least 24 hours in advance. A $25 no-show fee will apply without notice.</span><br />\n<br />\n<span style="font-size: 15px\; font-weight: bold\;">OPEN TO THE PUBLIC | NO REFUNDS</span></p>\n\n<p style="margin: 0px\; padding: 0px\; text-align: center\;">&nbsp\;</p>\n\n<p style="margin: 0px\; padding: 0px\;"><span style="font-size: 14px\; font-style: italic\;">Our Professional Interchange events have evolved into vibrant gatherings where business professionals come together not to sell\, but to inspire\, share ideas\, and build authentic relationships. We cultivate a culture which fosters meaningful connections where business happens organically.</span></p>\n\n<p style="margin: 0px\; padding: 0px\;">&nbsp\;</p>\n\n<p style="margin: 0px\; padding: 0px\;"><span style="font-size: 14px\; font-style: italic\;">This event is open to the public not for transactional purposes\, but to offer guests the opportunity to experience the culture of our organization and learn more about the Greater River North Business Association and the many benefits it provides to the business community.</span></p>\n\n<p style="margin: 0px\; padding: 0px\;">&nbsp\;</p>\n\n<p style="margin: 0px\; padding: 0px\;"><span style="font-size: 10px\; color: rgb(192\, 62\, 48)\; font-family: Arial\, Verdana\, Helvetica\, sans-serif\; font-weight: bold\;">I</span><span style="font-size: 11px\; color: rgb(192\, 62\, 48)\; font-family: Arial\, Verdana\, Helvetica\, sans-serif\; font-weight: bold\;">MPORTANT. PLEASE NOTE: Proper attire is required. GRNBA enforces business attire or a smart casual dress code.&nbsp\;This standard applies to all of our Professional Interchange events to ensure we reflect the professionalism of our members and the venues that graciously host us.</span></p>\n\n<p style="margin: 0px\; padding: 0px\;"><span style="font-size: 11px\; color: rgb(192\, 62\, 48)\; font-family: Arial\, Verdana\, Helvetica\, sans-serif\; font-weight: bold\;">&#65279\;</span></p>\n\n<ul style="padding-right: 0px\; padding-left: 0px\; margin: 0px 0px 0px 40px\;">\n	<li style="padding: 0px\; margin: 0px\; font-size: 10px\; color: rgb(192\, 62\, 48)\;"><span style="font-family: Arial\, Verdana\, Helvetica\, sans-serif\;">For men:&nbsp\;A collared shirt and dress pants are recommended. A collared shirt\, chinos\, dress jeans or a button-down shirt are appropriate. Please avoid sleeveless shirts\, ripped jeans\, hats\, beanies or ball caps\, beachwear\, jerseys and gym or athletic apparel</span></li>\n</ul>\n\n<p style="margin: 0px\; padding: 0px\;">&nbsp\;</p>\n\n<ul style="padding-right: 0px\; padding-left: 0px\; margin: 0px 0px 0px 40px\;">\n	<li style="padding: 0px\; margin: 0px\; font-size: 10px\; color: rgb(192\, 62\, 48)\;"><span style="font-family: Arial\, Verdana\, Helvetica\, sans-serif\;">For women:&nbsp\;Business wear or dressy casual attire is most comfortable. A nice blouse with a dressy skirt or pants\, dress jeans\, or a dress would be suitable. Please avoid excessively revealing clothing\, tank tops\, ripped jeans\, beachwear\, gym attire or athletic apparel</span></li>\n</ul>\n\n<p style="margin: 0px\; padding: 0px\;">&nbsp\;</p>\n\n<ul style="padding-right: 0px\; padding-left: 0px\; margin: 0px 0px 0px 40px\;">\n	<li style="padding: 0px\; margin: 0px\; font-size: 10px\; color: rgb(192\, 62\, 48)\;"><span style="font-family: Arial\, Verdana\, Helvetica\, sans-serif\;">General advice:&nbsp\;opt for smart casual or business attire to be safe. It is better to be slightly overdressed than underdressed.&nbsp\;</span></li>\n</ul>\n\n<p style="margin: 0px\; padding: 0px\;">&nbsp\;</p>\n\n<p style="margin: 0px\; padding: 0px\;"><span style="font-size: 10px\; font-family: Arial\, Verdana\, Helvetica\, sans-serif\; font-weight: bold\;">Admittance to our professional interchange events is at the discretion of the GRNBA staff\, who reserves the right to refuse admittance to guests or members who are inappropriately dressed regardless of registration</span></p>\n\n<p style="margin: 0px\; padding: 0px\;">&nbsp\;</p>\n\n<p style="margin: 0px\; padding: 0px\; color: rgb(96\, 109\, 120)\; font-family: Helvetica\, Arial\, sans-serif\; font-size: 16px\; white-space-collapse: preserve\;"><br />\n<br />\n<br />\n<br />\n&nbsp\;</p>\n
LOCATION:22 West Hubbard Chicago\, Il 60654
UID:e.9063.2704
SEQUENCE:3
DTSTAMP:20260425T232624Z
URL:https://business.greaterrnba.com/events/details/january-professional-interchange-ummo-chicago-2704
END:VEVENT

END:VCALENDAR
