BEGIN:VCALENDAR
VERSION:2.0
PRODID:-//ChamberMaster//Event Calendar 2.0//EN
METHOD:PUBLISH
X-PUBLISHED-TTL:P3D
REFRESH-INTERVAL:P3D
CALSCALE:GREGORIAN
BEGIN:VEVENT
DTSTART:20120824T143000Z
DTEND:20120825T043000Z
X-MICROSOFT-CDO-ALLDAYEVENT:FALSE
SUMMARY:Workshop - Introduction to Business Accounting
DESCRIPTION:Learn the different types of financial statements\, how to use them and how to keep records to protect yourself and your business in case of an audit. This class will provide information on management tools to increase productivity and profitability\, how to determine break even points\, plan your cash flow and choose an accountant that is right for your business.
X-ALT-DESC;FMTTYPE=text/html:Learn the different types of financial statements\, how to use them and how to keep records to protect yourself and your business in case of an audit. This class will provide information on management tools to increase productivity and profitability\, how to determine break even points\, plan your cash flow and choose an accountant that is right for your business.
LOCATION:Workshop is FREE and located at City of Chicago Department of Business Affairs and Consumer Protection\, City HAll\, 121 N. LaSAlle\, Room 805
UID:e.9063.21
SEQUENCE:3
DTSTAMP:20260420T085456Z
URL:https://business.greaterrnba.com/events/details/workshop-introduction-to-business-accounting-08-24-2012-21
END:VEVENT

END:VCALENDAR
